BEGIN:VCALENDAR
VERSION:2.0
PRODID:-//eventon.com NONSGML v1.0//EN
BEGIN:VEVENT
UID:69eb435db929e
DTSTAMP:20260424T031805
DTSTART:20190921T210000Z
DTEND:20190921T230000Z
LOCATION:Academy of Ballet 6470 Spalding Drive Peachtree Corners\,  GA 30092
SUMMARY:Academy of Ballet
DESCRIPTION: 2:00-3:00 learn dance routine 3:00-4:00 filming for social media
END:VEVENT
END:VCALENDAR